BEGIN:VCALENDAR
VERSION:2.0
PRODID:-//Uniting Church Western Australia - ECPv6.15.16//NONSGML v1.0//EN
CALSCALE:GREGORIAN
METHOD:PUBLISH
X-ORIGINAL-URL:https://unitingchurchwa.org.au
X-WR-CALDESC:Events for Uniting Church Western Australia
REFRESH-INTERVAL;VALUE=DURATION:PT1H
X-Robots-Tag:noindex
X-PUBLISHED-TTL:PT1H
BEGIN:VTIMEZONE
TZID:Australia/Perth
BEGIN:STANDARD
TZOFFSETFROM:+0800
TZOFFSETTO:+0800
TZNAME:AWST
DTSTART:20240101T000000
END:STANDARD
END:VTIMEZONE
BEGIN:VEVENT
DTSTART;TZID=Australia/Perth:20251224T160000
DTEND;TZID=Australia/Perth:20251224T170000
DTSTAMP:20260419T214418
CREATED:20251112T060136Z
LAST-MODIFIED:20251112T060659Z
UID:46434-1766592000-1766595600@unitingchurchwa.org.au
SUMMARY:Christmas Eve Family Service
DESCRIPTION:Join us at NorthWay Uniting Church for our Christmas Eve Family Worship Service starting at 4.00pm\, led by Rev Dr Sonny Rajamoney.
URL:https://unitingchurchwa.org.au/event/christmas-eve-family-service/
LOCATION:NorthWay Uniting Church\, 9 Pacific Way\, BELDON\, Western Australia\, 6027\, Australia
CATEGORIES:Christmas,Christmas Eve
ATTACH;FMTTYPE=image/jpeg:https://unitingchurchwa.org.au/wp-content/uploads/2025/11/christmas-baubles-1078996_640.jpg
END:VEVENT
BEGIN:VEVENT
DTSTART;TZID=Australia/Perth:20251224T170000
DTEND;TZID=Australia/Perth:20251224T180000
DTSTAMP:20260419T214418
CREATED:20251030T075823Z
LAST-MODIFIED:20251105T081214Z
UID:46230-1766595600-1766599200@unitingchurchwa.org.au
SUMMARY:Christmas Eve - Sounds of Christmas
DESCRIPTION:All are welcome to St Peter & Emmaus Church in Joondanna for our Christmas Eve service – Sounds of Christmas on Wednesday 24 December\, 5.00pm. \n\n\n\nThis will be a family Christmas celebration with refreshments following the service.
URL:https://unitingchurchwa.org.au/event/christmas-eve-sounds-of-christmas/
LOCATION:St Peter & Emmaus Church\, 56 Green Street\, Joondanna\, Western Australia\, 6060\, Australia
CATEGORIES:Christmas,Christmas Eve
ATTACH;FMTTYPE=image/jpeg:https://unitingchurchwa.org.au/wp-content/uploads/2024/11/christmas-melody-notes-flat-lay-with-star-shaped-cookies-fir-tree-branches-wooden-tray-anise.jpg
END:VEVENT
BEGIN:VEVENT
DTSTART;TZID=Australia/Perth:20251224T173000
DTEND;TZID=Australia/Perth:20251224T200000
DTSTAMP:20260419T214418
CREATED:20251125T022441Z
LAST-MODIFIED:20251125T022443Z
UID:46646-1766597400-1766606400@unitingchurchwa.org.au
SUMMARY:Carols on the Lawn
DESCRIPTION:Dongara Uniting Church invites you to Carols On The Lawn on Christmas Eve starting at 5.30pm \n\n\n\nThe evening includes a Children’s Christmas Story\, Nativity Stable & Christingle Craft \n\n\n\nWe invite children to dress as angels\, shepherds or a nativity character.  \n\n\n\nSeating provided. A Light Supper will be served. \n\n\n\nAll are welcome!
URL:https://unitingchurchwa.org.au/event/carols-on-the-lawn-2/
LOCATION:Dongara Uniting Church\, 4 Moreton Terrace\, Dongara\, Western Australia\, 6525\, Australia
CATEGORIES:Carols,Christmas,Christmas Eve
ATTACH;FMTTYPE=image/jpeg:https://unitingchurchwa.org.au/wp-content/uploads/2024/11/christmas-melody-notes-flat-lay-with-star-shaped-cookies-fir-tree-branches-wooden-tray-anise.jpg
END:VEVENT
BEGIN:VEVENT
DTSTART;TZID=Australia/Perth:20251224T180000
DTEND;TZID=Australia/Perth:20251224T193000
DTSTAMP:20260419T214418
CREATED:20251126T010418Z
LAST-MODIFIED:20251126T010420Z
UID:46696-1766599200-1766604600@unitingchurchwa.org.au
SUMMARY:Multicultural Christmas Eve Celebration
DESCRIPTION:Rockingham Uniting Church will be having a multicultural service of Carols with the Fijian and Cook Island Church Family on the Christmas Eve at 6.00pm. This will be followed by Christmas Church Family Feast.
URL:https://unitingchurchwa.org.au/event/multicultural-christmas-eve-celebration/
LOCATION:Rockingham Uniting Church\, 4 Erindoon Way\, Rockingham\, Western Australia\, 6169\, Australia
CATEGORIES:Christmas,Christmas Eve
ATTACH;FMTTYPE=image/jpeg:https://unitingchurchwa.org.au/wp-content/uploads/2025/11/Multicultural-Christmas-Eve.jpeg
END:VEVENT
BEGIN:VEVENT
DTSTART;TZID=Australia/Perth:20251224T183000
DTEND;TZID=Australia/Perth:20251224T193000
DTSTAMP:20260419T214418
CREATED:20251125T053909Z
LAST-MODIFIED:20251125T053911Z
UID:46677-1766601000-1766604600@unitingchurchwa.org.au
SUMMARY:Christmas Eve Service
DESCRIPTION:Join us at Trinity North Uniting Church for our Christmas Eve Service which will be held at St Stephen’s School Duncraig starting at 6.30pm.
URL:https://unitingchurchwa.org.au/event/christmas-eve-service-10/
LOCATION:St Stephen’s School\, 100 Doveridge Drive\, Duncraig\, Western Australia\, 6023\, Australia
CATEGORIES:Christmas,Christmas Eve
ATTACH;FMTTYPE=image/jpeg:https://unitingchurchwa.org.au/wp-content/uploads/2025/11/christmas-baubles-1078996_640.jpg
END:VEVENT
BEGIN:VEVENT
DTSTART;TZID=Australia/Perth:20251224T190000
DTEND;TZID=Australia/Perth:20251224T200000
DTSTAMP:20260419T214418
CREATED:20251111T053625Z
LAST-MODIFIED:20251111T053629Z
UID:46409-1766602800-1766606400@unitingchurchwa.org.au
SUMMARY:Christmas Eve service
DESCRIPTION:Please join us at Mount Pleasant Uniting Church for an evening of praise and celebration on Christmas Eve starting at 7.00pm.
URL:https://unitingchurchwa.org.au/event/christmas-eve-service-8/
LOCATION:Mount Pleasant Uniting Church\, 1 Coomoora Road\, Mount Pleasant\, Western Australia\, 6153\, Australia
CATEGORIES:Christmas,Christmas Eve
ATTACH;FMTTYPE=image/jpeg:https://unitingchurchwa.org.au/wp-content/uploads/2025/11/christmas-tree-2928142_1280-1.jpg
END:VEVENT
BEGIN:VEVENT
DTSTART;TZID=Australia/Perth:20251224T190000
DTEND;TZID=Australia/Perth:20251224T200000
DTSTAMP:20260419T214418
CREATED:20251125T020517Z
LAST-MODIFIED:20251125T020521Z
UID:46633-1766602800-1766606400@unitingchurchwa.org.au
SUMMARY:Christmas Eve Service
DESCRIPTION:Join us at Beth Shalom Uniting Church congregation for our Christmas Eve service on Wednesday evening 24 December 2025 at 7.00pm
URL:https://unitingchurchwa.org.au/event/christmas-eve-service-9/
LOCATION:Beth Shalom Tongan Uniting Church\, 111 Elderberry Drive\, South Lake\, WA\, 6164\, Australia
CATEGORIES:Christmas,Christmas Eve
ATTACH;FMTTYPE=image/jpeg:https://unitingchurchwa.org.au/wp-content/uploads/2025/11/download.jpg
END:VEVENT
BEGIN:VEVENT
DTSTART;TZID=Australia/Perth:20251224T190000
DTEND;TZID=Australia/Perth:20251224T200000
DTSTAMP:20260419T214418
CREATED:20251201T010245Z
LAST-MODIFIED:20251201T010248Z
UID:46838-1766602800-1766606400@unitingchurchwa.org.au
SUMMARY:Christmas Eve Worship
DESCRIPTION:You are invited to join us for our Christmas Eve Worship at Star Street Uniting Church.We will share in scripture and songs associated with the Christmas story.
URL:https://unitingchurchwa.org.au/event/christmas-eve-worship-2/
LOCATION:Star Street Uniting Church\, 43–45 Star Street\, Carlisle\, Western Australia\, 6101\, Australia
CATEGORIES:Christmas,Christmas Eve
ATTACH;FMTTYPE=image/png:https://unitingchurchwa.org.au/wp-content/uploads/2025/11/Christmas-Eve-2025.png
END:VEVENT
BEGIN:VEVENT
DTSTART;TZID=Australia/Perth:20251224T190000
DTEND;TZID=Australia/Perth:20251224T203000
DTSTAMP:20260419T214418
CREATED:20251105T080530Z
LAST-MODIFIED:20251105T080532Z
UID:46340-1766602800-1766608200@unitingchurchwa.org.au
SUMMARY:Christmas Eve Service
DESCRIPTION:Join GKI Perth Uniting Church in Mosman Park for our Christmas Eve service starting at 7.00pm.  \n\n\n\nThis service will be spoken in Indonesian\, with an English translation corner available.
URL:https://unitingchurchwa.org.au/event/christmas-eve-service-7/
LOCATION:GKI Perth Uniting Church\, 2A Willis Street\, Mosman Park\, Western Australia\, 6012\, Australia
CATEGORIES:Christmas,Christmas Eve
ATTACH;FMTTYPE=image/jpeg:https://unitingchurchwa.org.au/wp-content/uploads/2025/11/christmas-baubles-1078996_640.jpg
END:VEVENT
BEGIN:VEVENT
DTSTART;TZID=Australia/Perth:20251224T230000
DTEND;TZID=Australia/Perth:20251224T235500
DTSTAMP:20260419T214418
CREATED:20251113T065306Z
LAST-MODIFIED:20251113T065414Z
UID:46475-1766617200-1766620500@unitingchurchwa.org.au
SUMMARY:Christmas Eve Service
DESCRIPTION:Come and Celebrate Christmas with the Uniting Church in the City \n\n\n\nCome along to Wesley Uniting Church in the City on 24 December for our Christmas Eve Service at 11.00pm.   \n\n\n\nWith Tranby Chorale & Wesley Brass and directed by Angela Currie (Director of Music/Organist)
URL:https://unitingchurchwa.org.au/event/46475/
LOCATION:Wesley Uniting Church (UCIC)\, Corner William and Hay Streets\, Perth\, Western Australia\, 6000\, Australia
CATEGORIES:Christmas,Christmas Eve
ATTACH;FMTTYPE=image/jpeg:https://unitingchurchwa.org.au/wp-content/uploads/2025/11/nativity-4620015_1280.jpg
END:VEVENT
END:VCALENDAR