BEGIN:VCALENDAR
VERSION:2.0
PRODID:-//Uniting Church Western Australia - ECPv6.15.16//NONSGML v1.0//EN
CALSCALE:GREGORIAN
METHOD:PUBLISH
X-WR-CALNAME:Uniting Church Western Australia
X-ORIGINAL-URL:https://unitingchurchwa.org.au
X-WR-CALDESC:Events for Uniting Church Western Australia
REFRESH-INTERVAL;VALUE=DURATION:PT1H
X-Robots-Tag:noindex
X-PUBLISHED-TTL:PT1H
BEGIN:VTIMEZONE
TZID:Australia/Perth
BEGIN:STANDARD
TZOFFSETFROM:+0800
TZOFFSETTO:+0800
TZNAME:AWST
DTSTART:20250101T000000
END:STANDARD
END:VTIMEZONE
BEGIN:VEVENT
DTSTART;TZID=Australia/Perth:20260404T100000
DTEND;TZID=Australia/Perth:20260404T120000
DTSTAMP:20260423T144223
CREATED:20260309T072640Z
LAST-MODIFIED:20260309T072643Z
UID:47669-1775296800-1775304000@unitingchurchwa.org.au
SUMMARY:Holy Saturday
DESCRIPTION:Rockingham Uniting Church will be open on Holy Saturday\, 4 April\, from 10.00am to 12.00pm to allow people a time of reflection. People are welcome to quietly walk in\, sit\, reflect\, and pray.
URL:https://unitingchurchwa.org.au/event/holy-saturday/
LOCATION:Rockingham Uniting Church\, 4 Erindoon Way\, Rockingham\, Western Australia\, 6169\, Australia
CATEGORIES:Easter,Holy Saturday
ATTACH;FMTTYPE=image/jpeg:https://unitingchurchwa.org.au/wp-content/uploads/2026/03/HOLY-SATURDAY-RUC.jpg
END:VEVENT
END:VCALENDAR