BEGIN:VCALENDAR
VERSION:2.0
PRODID:-//Uniting Church Western Australia - ECPv6.15.16//NONSGML v1.0//EN
CALSCALE:GREGORIAN
METHOD:PUBLISH
X-ORIGINAL-URL:https://unitingchurchwa.org.au
X-WR-CALDESC:Events for Uniting Church Western Australia
REFRESH-INTERVAL;VALUE=DURATION:PT1H
X-Robots-Tag:noindex
X-PUBLISHED-TTL:PT1H
BEGIN:VTIMEZONE
TZID:Australia/Perth
BEGIN:STANDARD
TZOFFSETFROM:+0800
TZOFFSETTO:+0800
TZNAME:AWST
DTSTART:20250101T000000
END:STANDARD
END:VTIMEZONE
BEGIN:VEVENT
DTSTART;TZID=Australia/Perth:20260217T090000
DTEND;TZID=Australia/Perth:20260217T110000
DTSTAMP:20260421T212702
CREATED:20260209T090403Z
LAST-MODIFIED:20260210T080025Z
UID:47265-1771318800-1771326000@unitingchurchwa.org.au
SUMMARY:Pancake Day - Mandurah UC
DESCRIPTION:Mandurah Uniting Church are hosting a Pancake Day fundraising event on Tuesday 17 February\, 9.00am to 11.00am.  Gold coin donations will go to support Uniting WA’s work for people experiencing homelessness.
URL:https://unitingchurchwa.org.au/event/pancake-day-mandurah-uc/
LOCATION:Mandurah Uniting Church\, 156 Pinjarra Road\, Mandurah\, Western Australia\, 6211\, Australia
CATEGORIES:Activities,Easter,Shrove Tuesday
ATTACH;FMTTYPE=image/jpeg:https://unitingchurchwa.org.au/wp-content/uploads/2026/02/Mandurah-UC-Pancake-Day.jpg
END:VEVENT
BEGIN:VEVENT
DTSTART;TZID=Australia/Perth:20260217T093000
DTEND;TZID=Australia/Perth:20260217T113000
DTSTAMP:20260421T212702
CREATED:20260203T054549Z
LAST-MODIFIED:20260203T054552Z
UID:47231-1771320600-1771327800@unitingchurchwa.org.au
SUMMARY:Pancakes for Chaplains
DESCRIPTION:On 17 February (Shrove Tuesday) \, St Augustine Uniting Church\, 119 Mangles St\, South Bunbury\, are having a fun morning raising funds for YouthCARE in Bunbury with a Pancake Party! \n\n\n\nAll proceeds go to enable support of students\, families and staff through the work of local chaplains. Please pop in for delicious fun\, including the Annual Pancake Tossing Competition.
URL:https://unitingchurchwa.org.au/event/pancakes-for-chaplains/
LOCATION:Bunbury St Augustine Uniting Church\, 119 Mangles St\, South Bunbury\, Western Australia\, 6231\, Australia
CATEGORIES:Easter,Shrove Tuesday
ATTACH;FMTTYPE=image/png:https://unitingchurchwa.org.au/wp-content/uploads/2026/02/Pancakes-for-Chaplains-Bunbury-UC.png
END:VEVENT
END:VCALENDAR