BEGIN:VCALENDAR
VERSION:2.0
PRODID:-//Uniting Church Western Australia - ECPv6.15.16//NONSGML v1.0//EN
CALSCALE:GREGORIAN
METHOD:PUBLISH
X-ORIGINAL-URL:https://unitingchurchwa.org.au
X-WR-CALDESC:Events for Uniting Church Western Australia
REFRESH-INTERVAL;VALUE=DURATION:PT1H
X-Robots-Tag:noindex
X-PUBLISHED-TTL:PT1H
BEGIN:VTIMEZONE
TZID:Australia/Perth
BEGIN:STANDARD
TZOFFSETFROM:+0800
TZOFFSETTO:+0800
TZNAME:AWST
DTSTART:20250101T000000
END:STANDARD
END:VTIMEZONE
BEGIN:VEVENT
DTSTART;TZID=Australia/Perth:20260602T190000
DTEND;TZID=Australia/Perth:20260602T203000
DTSTAMP:20260423T052737
CREATED:20260422T052114Z
LAST-MODIFIED:20260422T052118Z
UID:48383-1780426800-1780432200@unitingchurchwa.org.au
SUMMARY:Uniting Generations Network Meeting
DESCRIPTION:The next meeting of the Uniting Generations Network is on Tuesday 2 June at 7.00pm – Online via Zoom. \n\n\n\nA time to share stories\, encourage one another and share our dreams and visions for the future generations of the Uniting Church.  All welcome. \n\n\n\nContact Julie Ridden for more information – julie.ridden@wa.uca.org.au \n\n\n\nJoin the Zoom meeting – https://us02web.zoom.us/j/82090853333   Meeting ID 820 9085 3333
URL:https://unitingchurchwa.org.au/event/uniting-generations-network-meeting-4/
LOCATION:Western Australia
ATTACH;FMTTYPE=image/png:https://unitingchurchwa.org.au/wp-content/uploads/2026/04/Uniting-Gen-Network-1.png
END:VEVENT
BEGIN:VEVENT
DTSTART;TZID=Australia/Perth:20260619T140000
DTEND;TZID=Australia/Perth:20260619T173000
DTSTAMP:20260423T052737
CREATED:20260210T062337Z
LAST-MODIFIED:20260210T062341Z
UID:47289-1781877600-1781890200@unitingchurchwa.org.au
SUMMARY:Intercultural Workshop
DESCRIPTION:The Rural Network invites you to an Intercultural Workshop on Friday\, 19 June at St Stephen’s Applecross Uniting Church.  The workshop led by Rev Judy Sanderson will run from 2.00pm to 5.30pm.
URL:https://unitingchurchwa.org.au/event/intercultural-workshop/
LOCATION:St Stephens Uniting Church\, 2 Mackenzie Road\, Applecross\, Western Australia\, 6153\, Australia
END:VEVENT
END:VCALENDAR