BEGIN:VCALENDAR
VERSION:2.0
PRODID:-//Uniting Church Western Australia - ECPv6.15.16//NONSGML v1.0//EN
CALSCALE:GREGORIAN
METHOD:PUBLISH
X-WR-CALNAME:Uniting Church Western Australia
X-ORIGINAL-URL:https://unitingchurchwa.org.au
X-WR-CALDESC:Events for Uniting Church Western Australia
REFRESH-INTERVAL;VALUE=DURATION:PT1H
X-Robots-Tag:noindex
X-PUBLISHED-TTL:PT1H
BEGIN:VTIMEZONE
TZID:Australia/Perth
BEGIN:STANDARD
TZOFFSETFROM:+0800
TZOFFSETTO:+0800
TZNAME:AWST
DTSTART:20250101T000000
END:STANDARD
END:VTIMEZONE
BEGIN:VEVENT
DTSTART;TZID=Australia/Perth:20260509T090000
DTEND;TZID=Australia/Perth:20260509T140000
DTSTAMP:20260422T122812
CREATED:20260210T075539Z
LAST-MODIFIED:20260216T040429Z
UID:47293-1778317200-1778335200@unitingchurchwa.org.au
SUMMARY:Safe Church Awareness Workshop
DESCRIPTION:There will be a Safe Church Awareness Workshop taking place on Saturday 9 May from 9.00am to 2.00pm at South Mandurah Uniting Church\, 2 – 4 Rees Place\, Wannanup\, WA. \n\n\n\nAll ministers\, pastors\, church leaders\, volunteers\, members of congregations and those involved in community services are welcome and urged to attend. Refreshments will be provided. \n\n\n\nThe cost is $30.00 per person. \n\n\n\nFor further information or to register by 5 May please contact Kerry Shields\, Administrative Support Officer\, Culture of Safety on 9260 9800 or cultureofsafety@wa.uca.org.au \n\n\n\nTo find out more about Safe Church training go to – https://unitingchurchwa.org.au/culture-of-safety/safe-church/awareness-training/
URL:https://unitingchurchwa.org.au/event/safe-church-awareness-workshop-8/
LOCATION:South Mandurah Uniting Church\, 2/4 Rees Place\, Wannanup\, Western Australia\, 6210\, Australia
ATTACH;FMTTYPE=image/png:https://unitingchurchwa.org.au/wp-content/uploads/2023/05/20210623_New_SafeChurchLogo-1.png
END:VEVENT
BEGIN:VEVENT
DTSTART;TZID=Australia/Perth:20260516T130000
DTEND;TZID=Australia/Perth:20260516T170000
DTSTAMP:20260422T122812
CREATED:20260331T075757Z
LAST-MODIFIED:20260331T075958Z
UID:48269-1778936400-1778950800@unitingchurchwa.org.au
SUMMARY:Trek for Timor 2026
DESCRIPTION:The Uniting Church WA’s International Partnerships & Development Commission (IPDC) invite you to join them for Trek 4 Timor 2026 on Saturday 16 May starting at 1.00pm! \n\n\n\nTake a walk around the river to raise money for Lafaek Diak’s mobile health clinic in Timor Leste. Operating out of the back of a 4WD\, the clinic works its way around the remote villages of East Timor delivering medical aid and services\, health promotion education and care\, immunisations and clinics. \n\n\n\nStarting and ending at Saint Stephen’s Uniting Church in Applecross\, there will be two walk options for people to choose – 3.4km and 6.8km – finishing the day with afternoon refreshments at the church! \n\n\n\nYou can register to walk and fundraise or simply support this great cause with a donation. Perhaps if you can’t get to the event you could also consider sponsoring a friend or member of your congregation! \n\n\n\nRegistration\n\n\n\n\nIndividual – $30\n\n\n\nTeam of 2 – $50\n\n\n\nTeam of 4 – $80\n\n\n\nIndividual concession – $15\n\n\n\n\nGo to our Trybooking site to register or donate!  \n\n\n\n\nGo to our Trybooking page\n\n\n\n\nDownload the flyer for sharing here: \n\n\n\nTrek 4 Timor Perth 2026Download
URL:https://unitingchurchwa.org.au/event/trek-for-timor-2026/
LOCATION:St Stephens Uniting Church\, 2 Mackenzie Road\, Applecross\, Western Australia\, 6153\, Australia
ATTACH;FMTTYPE=image/png:https://unitingchurchwa.org.au/wp-content/uploads/2026/03/Trek-4-Timor-Perth-2026-Banner.png
END:VEVENT
BEGIN:VEVENT
DTSTART;TZID=Australia/Perth:20260619T140000
DTEND;TZID=Australia/Perth:20260619T173000
DTSTAMP:20260422T122812
CREATED:20260210T062337Z
LAST-MODIFIED:20260210T062341Z
UID:47289-1781877600-1781890200@unitingchurchwa.org.au
SUMMARY:Intercultural Workshop
DESCRIPTION:The Rural Network invites you to an Intercultural Workshop on Friday\, 19 June at St Stephen’s Applecross Uniting Church.  The workshop led by Rev Judy Sanderson will run from 2.00pm to 5.30pm.
URL:https://unitingchurchwa.org.au/event/intercultural-workshop/
LOCATION:St Stephens Uniting Church\, 2 Mackenzie Road\, Applecross\, Western Australia\, 6153\, Australia
END:VEVENT
END:VCALENDAR