BEGIN:VCALENDAR
VERSION:2.0
PRODID:-//Uniting Church Western Australia - ECPv6.15.16//NONSGML v1.0//EN
CALSCALE:GREGORIAN
METHOD:PUBLISH
X-ORIGINAL-URL:https://unitingchurchwa.org.au
X-WR-CALDESC:Events for Uniting Church Western Australia
REFRESH-INTERVAL;VALUE=DURATION:PT1H
X-Robots-Tag:noindex
X-PUBLISHED-TTL:PT1H
BEGIN:VTIMEZONE
TZID:Australia/Perth
BEGIN:STANDARD
TZOFFSETFROM:+0800
TZOFFSETTO:+0800
TZNAME:AWST
DTSTART:20240101T000000
END:STANDARD
END:VTIMEZONE
BEGIN:VEVENT
DTSTART;TZID=Australia/Perth:20250903T190000
DTEND;TZID=Australia/Perth:20250903T210000
DTSTAMP:20260422T024427
CREATED:20250807T041720Z
LAST-MODIFIED:20250807T041723Z
UID:45224-1756926000-1756933200@unitingchurchwa.org.au
SUMMARY:Ethical Ministry Workshop - online
DESCRIPTION:The Ethical Ministry Workshop for 2025 will focus on Professionalism in Ministry\, a core aspect of our calling and responsibilities as ministers and pastors. This year’s theme draws on key sections of the Code of Ethics: Section 3.5.The Uniting Centre for Education and Formation are facilitating two workshops: \n\n\n\nTuesday 19 August (in person)9:30am – 12:00pm at St Peter and Emmaus Church\, 56 Green Street\, JoondannaRSVP: PA.education@wa.uca.org.au (Please include “In person Workshop” in your email) \n\n\n\nWednesday 3 September (via Zoom)7:00pm – 9:00pmRSVP: PA.education@wa.uca.org.au (Please include “Zoom Workshop” in your email) \n\n\n\nFor further enquiries\, and to receive the workbook please contact Mahshid Zadeh – pa.education@wa.uca.org.au
URL:https://unitingchurchwa.org.au/event/ethical-ministry-workshop-online-2/
LOCATION:Western Australia
END:VEVENT
BEGIN:VEVENT
DTSTART;TZID=Australia/Perth:20250906T090000
DTEND;TZID=Australia/Perth:20250906T120000
DTSTAMP:20260422T024427
CREATED:20250901T040013Z
LAST-MODIFIED:20250901T040018Z
UID:45417-1757149200-1757160000@unitingchurchwa.org.au
SUMMARY:Kalamunda Uniting Church Market Day
DESCRIPTION:The next Market Day at Kalamunda Uniting Church is on Saturday\,6 September\, from 9.00am to 12.00pm. Morning Teas will be available and our usual stalls with cakes\, crafts\, jams\, plants and books will be ready to tempt you. Come along and enjoy the fellowship.
URL:https://unitingchurchwa.org.au/event/kalamunda-uniting-church-market-day-4/
LOCATION:Kalamunda Uniting Church\, 7 Heath Road\, Kalamunda\, Western Australia\, Australia
ATTACH;FMTTYPE=image/jpeg:https://unitingchurchwa.org.au/wp-content/uploads/2023/05/happy-birthday-1342240_1920.jpg
END:VEVENT
BEGIN:VEVENT
DTSTART;TZID=Australia/Perth:20250906T090000
DTEND;TZID=Australia/Perth:20250906T140000
DTSTAMP:20260422T024427
CREATED:20250604T034121Z
LAST-MODIFIED:20250604T034123Z
UID:44678-1757149200-1757167200@unitingchurchwa.org.au
SUMMARY:Safe Church Awareness Workshop
DESCRIPTION:There will be a Safe Church Awareness Workshop taking place on Saturday 6 September from 9.00am to 2.00pm at Crossways Uniting Church\, 10 Calabrese Ave\, Wanneroo\, WA. \n\n\n\nAll ministers\, pastors\, church leaders\, volunteers\, members of congregations and those involved in community services are welcome and urged to attend. Refreshments will be provided. \n\n\n\nThe cost is $30.00 per person. \n\n\n\nFor further information or to register by 2 September please contact Kerry Shields\, Administrative Support Officer\, Culture of Safety on 9260 9800 or cultureofsafety@wa.uca.org.au \n\n\n\nTo find out more about Safe Church training go to – https://unitingchurchwa.org.au/culture-of-safety/safe-church/awareness-training/
URL:https://unitingchurchwa.org.au/event/safe-church-awareness-workshop-4/
LOCATION:Wanneroo Crossways Uniting Church\, 10 Calabrese Ave\, Wanneroo\, Western Australia\, 6065\, Australia
ATTACH;FMTTYPE=image/png:https://unitingchurchwa.org.au/wp-content/uploads/2023/05/20210623_New_SafeChurchLogo-1.png
END:VEVENT
BEGIN:VEVENT
DTSTART;TZID=Australia/Perth:20250913T080000
DTEND;TZID=Australia/Perth:20250914T160000
DTSTAMP:20260422T024427
CREATED:20250807T043329Z
LAST-MODIFIED:20250807T043331Z
UID:45228-1757750400-1757865600@unitingchurchwa.org.au
SUMMARY:49th Annual Meeting of the Synod of WA
DESCRIPTION:The 49th Annual Meeting of the Synod of Western Australia will take place over the weekend of Saturday 13 September to Sunday 14 September 2025.   \n\n\n\nAt the Annual Synod meeting members of the Uniting Church in WA\, as well as representatives from our schools and agencies\, will come together to discuss issues of importance in the life of the church and the wider community. \n\n\n\nThe Moderator’s theme for this Triennium is Being with Jesus in Ministry. \n\n\n\nDate – Saturday 13 September 2025\, 8.00am to 8.00pm & Sunday 14 September 2025\, 8.00am to 4.00pm. \n\n\n\nLocation – Wesley College\, Coode St &\, Angelo St\, South Perth. \n\n\n\nPlease note there will be no Friday evening opening worship service this year.   \n\n\n\nFor further details about the Annual Synod go to the Synod Meetings and Minutes page.
URL:https://unitingchurchwa.org.au/event/49th-annual-meeting-of-the-synod-of-wa/
LOCATION:Wesley College\, Corner of Coode St & Angelo St\, South Perth\, Western Australia\, 6151\, Australia
ATTACH;FMTTYPE=image/jpeg:https://unitingchurchwa.org.au/wp-content/uploads/2023/09/Ian-Tozer-logo_TV-PPT_screen_concept1.jpg
END:VEVENT
BEGIN:VEVENT
DTSTART;TZID=Australia/Perth:20250921T120000
DTEND;TZID=Australia/Perth:20250921T140000
DTSTAMP:20260422T024427
CREATED:20250829T071717Z
LAST-MODIFIED:20250901T025436Z
UID:45393-1758456000-1758463200@unitingchurchwa.org.au
SUMMARY:Towards Enduring Sustainability - Coral's Last Stand Film Screening
DESCRIPTION:All are welcome to attend a screening of the documentary Coral’s Last Stand – the fight to save Scott reef\, on Sunday 21 September 2025 at 12.00pm. The screening will be at Uniting Church in the City’s Tranby Hall\, Level 1\, 97 William St\, Perth\, beginning at 12.00pm with light refreshments. The film screening will commence at 12.30pm. \n\n\n\nRegistrations are requested for catering purposes – https://events.humanitix.com/corals-last-stand-film-screening-uniting-church-in-the-city  \n\n\n\nThis is a UCIC Social.Justice.Church event co-hosted by Australian Religious Response to Climate Change WA (ARRCC WA) and the Uniting Church WA Social Justice Commission. \n\n\n\nScott Reef is a remote coral atoll to the far north of Western Australia. It is home to an incredible diversity of marine life. This film\, featuring Australian Marine Conservation Society’s patron Tim Winton\, tells the story of Scott Reef – its beauty\, its importance\, and the urgent campaign to save it for posterity. \n\n\n\nLight refreshments will be served and there will be updates about current issues for climate action and steps we can take towards enduring sustainability. \n\n\n\nMore information including ticketing available on the UCIC website here – https://www.perthunitingchurch.org.au/events/view/corals-last-stand-film-screening/2025-09-21
URL:https://unitingchurchwa.org.au/event/towards-enduring-sustainability-corals-last-stand-film-screening/
LOCATION:Western Australia
ATTACH;FMTTYPE=image/jpeg:https://unitingchurchwa.org.au/wp-content/uploads/2025/08/SJC-Sept25-Corals-Last-Stand-ScreeningFB-Event-Cover.jpg
END:VEVENT
END:VCALENDAR