BEGIN:VCALENDAR
VERSION:2.0
PRODID:-//Uniting Church Western Australia - ECPv6.15.16//NONSGML v1.0//EN
CALSCALE:GREGORIAN
METHOD:PUBLISH
X-ORIGINAL-URL:https://unitingchurchwa.org.au
X-WR-CALDESC:Events for Uniting Church Western Australia
REFRESH-INTERVAL;VALUE=DURATION:PT1H
X-Robots-Tag:noindex
X-PUBLISHED-TTL:PT1H
BEGIN:VTIMEZONE
TZID:Australia/Perth
BEGIN:STANDARD
TZOFFSETFROM:+0800
TZOFFSETTO:+0800
TZNAME:AWST
DTSTART:20240101T000000
END:STANDARD
END:VTIMEZONE
BEGIN:VEVENT
DTSTART;TZID=Australia/Perth:20251108T090000
DTEND;TZID=Australia/Perth:20251108T160000
DTSTAMP:20260421T233951
CREATED:20251017T015923Z
LAST-MODIFIED:20251017T020116Z
UID:46014-1762592400-1762617600@unitingchurchwa.org.au
SUMMARY:Presbytery of WA Meeting
DESCRIPTION:The next meeting of the Presbytery of WA will be on Saturday 8 November 2025 at St Peter & Emmaus Church\, 56 Green St\, Joondanna. \n\n\n\nThis meeting will include the Admission of Rev Craig Bosman as a Minister of the Uniting Church in Australia as part of the opening worship. \n\n\n\nFor details of the meeting please go to our Presbytery Meetings and Minutes page.
URL:https://unitingchurchwa.org.au/event/presbytery-of-wa-meeting-4/
LOCATION:St Peter & Emmaus Church\, 56 Green Street\, Joondanna\, Western Australia\, 6060\, Australia
ATTACH;FMTTYPE=image/png:https://unitingchurchwa.org.au/wp-content/uploads/2024/02/Combined_Presbytery_Vertical_logo.png
END:VEVENT
BEGIN:VEVENT
DTSTART;TZID=Australia/Perth:20251109T093000
DTEND;TZID=Australia/Perth:20251109T110000
DTSTAMP:20260421T233951
CREATED:20251013T021448Z
LAST-MODIFIED:20251013T021452Z
UID:45937-1762680600-1762686000@unitingchurchwa.org.au
SUMMARY:Uniting Aid Thanksgiving Service and Annual Public Meeting
DESCRIPTION:You are warmly invited to attend the Uniting Aid​​​​​​​ Thanksgiving Service and Annual Public Meeting held in conjunction with a Thanksgiving Service\, on Sunday\, 9 November 2025\, at 9:30 am\, at All Saints Floreat Uniting Church to hear of their services to help the disadvantaged people living within the City of Stirling. This special occasion provides an opportunity to give thanks for God’s blessings\, celebrate our dedicated volunteers\, and hear updates on Uniting Aid’s ongoing mission to support those experiencing hardship in our community.RSVP to Bonnie Yau by 5 November – admin@unitingaid.org.au
URL:https://unitingchurchwa.org.au/event/uniting-aid-thanksgiving-service-and-annual-public-meeting/
LOCATION:All Saints Floreat Uniting Church\, 48-50 Berkeley Crescent\, Floreat\, Western Australia\, 6014\, Australia
ATTACH;FMTTYPE=image/jpeg:https://unitingchurchwa.org.au/wp-content/uploads/2025/10/2025-Annual-Thanksgiving-Service-Invitation-UnitingAid.jpg
END:VEVENT
BEGIN:VEVENT
DTSTART;TZID=Australia/Perth:20251114T160000
DTEND;TZID=Australia/Perth:20251114T200000
DTSTAMP:20260421T233951
CREATED:20251024T055244Z
LAST-MODIFIED:20251024T055246Z
UID:46079-1763136000-1763150400@unitingchurchwa.org.au
SUMMARY:Trinity North Twilight Fair
DESCRIPTION:The Trinity North Uniting Church Twilight Fair is on Friday 14 November from 4.00pm to 8.00pm at the Greenwood Church Centre\, 85-89 Marlock Dve\, Greenwood.  \n\n\n\nEnjoy food\, books\, pot plants\, white elephant stalls along with cakes\, toys\, devonshire tea\, raffles\, music and more!
URL:https://unitingchurchwa.org.au/event/trinity-north-twilight-fair/
LOCATION:Trinity North Uniting Church\, 85-89 Marlock Drive\, Greenwood\, Western Australia\, 6024\, Australia
END:VEVENT
BEGIN:VEVENT
DTSTART;TZID=Australia/Perth:20251115T080000
DTEND;TZID=Australia/Perth:20251115T130000
DTSTAMP:20260421T233951
CREATED:20251027T041910Z
LAST-MODIFIED:20251027T061057Z
UID:46092-1763193600-1763211600@unitingchurchwa.org.au
SUMMARY:The Big Garage Sale
DESCRIPTION:The Star Street Uniting Church Big Garage Sale is being held 15 November as part of the Garage Sale Trail! \nFrom 8.00am\, come along and grab a bargain in clothing\, bric-a-brac\, books\, dvds and art. We also have a crafts and bake sale and an impressive array of plants by Mr Retired\, and a sausage sizzle to power you along in your bargain hunting. Proceeds from the garage sale go to our emergency food relief program\, which provides food to those in need in our local area. \nYou can also bring non-perishable items to donate to the food program.
URL:https://unitingchurchwa.org.au/event/the-big-garage-sale/
LOCATION:Star Street Uniting Church\, 43–45 Star Street\, Carlisle\, Western Australia\, 6101\, Australia
ATTACH;FMTTYPE=image/png:https://unitingchurchwa.org.au/wp-content/uploads/2025/10/Garage-Sale-Poster-November-2025.png
END:VEVENT
BEGIN:VEVENT
DTSTART;TZID=Australia/Perth:20251121T173000
DTEND;TZID=Australia/Perth:20251121T200000
DTSTAMP:20260421T233951
CREATED:20251103T031420Z
LAST-MODIFIED:20251103T031425Z
UID:46248-1763746200-1763755200@unitingchurchwa.org.au
SUMMARY:Family Movie Night
DESCRIPTION:Maylands – Mt Lawley Uniting Church invites you to a Family Movie Night on Friday 21 November starting at 5.30pm. The movie will be the Disney Pixar film Monsters University\, and there will be a pizza dinner\, popcorn and icecream provided.  Cost is free (donations for food welcome).
URL:https://unitingchurchwa.org.au/event/family-movie-night-4/
LOCATION:Maylands/Mt Lawley Uniting Church\, 165 Railway Parade\, Maylands\, Western Australia\, 6051\, Australia
END:VEVENT
BEGIN:VEVENT
DTSTART;TZID=Australia/Perth:20251122T100000
DTEND;TZID=Australia/Perth:20251122T113000
DTSTAMP:20260421T233951
CREATED:20251001T070722Z
LAST-MODIFIED:20251001T070724Z
UID:45887-1763805600-1763811000@unitingchurchwa.org.au
SUMMARY:Lay Preacher Gathering
DESCRIPTION:Uniting Centre for Education and Formation (UCEF) is inviting Lay Preachers to a special gathering on Saturday 22 November\, 10.00am to 11.30am at Secret Garden Cafe\, 64 Angelo St\, South Perth. This relaxed morning will be a wonderful opportunity to connect with fellow Lay Preachers\, reflect\, and celebrate the incredible work you do across Uniting Churches in WA. Coffee and cake is provided for everyone to enjoy. This is the final UCEF gathering for the year and a chance to acknowledge and appreciate your contributions to our church communities. \n\n\n\nPlease RSVP by emailing Mahshid Zadeh at PA.Education@wa.uca.org.au
URL:https://unitingchurchwa.org.au/event/lay-preacher-gathering/
LOCATION:Western Australia
ATTACH;FMTTYPE=image/jpeg:https://unitingchurchwa.org.au/wp-content/uploads/2025/10/shutterstock_1143280898.jpg
END:VEVENT
BEGIN:VEVENT
DTSTART;TZID=Australia/Perth:20251126T093000
DTEND;TZID=Australia/Perth:20251126T153000
DTSTAMP:20260421T233951
CREATED:20251027T055330Z
LAST-MODIFIED:20251028T024711Z
UID:46140-1764149400-1764171000@unitingchurchwa.org.au
SUMMARY:Ministers and Pastors Retreat Day
DESCRIPTION:Ministers and Pastors Retreat DayThis retreat day is exclusively for ministers and pastors in placement to come together before the Advent season begins. It offers an opportunity to connect with colleagues\, spend time with God\, and recentre before this busy time of year.  \n\n\n\nHeld at Nathanael’s Rest Retreat Centre\, the day provides a peaceful\, homely environment for reflection and prayer. \n\n\n\nWe encourage you to set aside the time to centre yourself and nurture relationships with your ministry peers. \n\n\n\nDate: Wednesday\, 26 November\, 9:30am–3:30pmVenue: Nathanael’s Rest Retreat Centre\, 800 Gill Street\, MundaringCost: $35 (includes morning tea and lunch) \n\n\n\nRegister on Eventbrite here – https://www.eventbrite.com.au/e/ministers-and-pastors-retreat-day-tickets-1649413743909Enquiries to Mahshid Zadeh – pa.education@wa.uca.org.au
URL:https://unitingchurchwa.org.au/event/ministers-and-pastors-retreat-day/
LOCATION:Western Australia
END:VEVENT
BEGIN:VEVENT
DTSTART;TZID=Australia/Perth:20251128T093000
DTEND;TZID=Australia/Perth:20251129T123000
DTSTAMP:20260421T233951
CREATED:20251126T010002Z
LAST-MODIFIED:20251126T010011Z
UID:46701-1764322200-1764419400@unitingchurchwa.org.au
SUMMARY:Nativity Exhibition
DESCRIPTION:There will be a display of over fifty Nativity displays in our Church Hall. There will be free morning tea and some Christmas items from our OpShop on sale. \nThe displays will be available to view: \nFriday 28 November 9.30am to 12.30pm \nFriday 28 November 4.00pm to 7.00pm \nSaturday 29 November 9.30am to 12.30pm
URL:https://unitingchurchwa.org.au/event/nativity-exhibition/
LOCATION:Rockingham Uniting Church\, 4 Erindoon Way\, Rockingham\, Western Australia\, 6169\, Australia
CATEGORIES:Activities,Advent,Christmas
ATTACH;FMTTYPE=image/jpeg:https://unitingchurchwa.org.au/wp-content/uploads/2025/11/Nativity.jpeg
END:VEVENT
BEGIN:VEVENT
DTSTART;TZID=Australia/Perth:20251129T103000
DTEND;TZID=Australia/Perth:20251129T133000
DTSTAMP:20260421T233951
CREATED:20251120T015433Z
LAST-MODIFIED:20251120T015435Z
UID:46584-1764412200-1764423000@unitingchurchwa.org.au
SUMMARY:Counting to Christmas
DESCRIPTION:Counting to Christmas – A Morning for the Whole Community\n\n\n\nJoin us for a joyful morning of creativity\, connection\, and celebration at Nedlands Uniting Church! \n\n\n\nCounting to Christmas offers a welcoming space for all ages to prepare for Advent in meaningful and hands-on ways. \n\n\n\nWhat’s On: \n\n\n\n\nConnect Corner: Meet church members and discover opportunities to join NUC groups\, activities\, or services after the event.\n\n\n\nServing & Giving: Support charities including Compassion Australia\, Uniting Aid\, GECFI\, East Timor education and the Christmas Bowl at our Giving Tables.\n\n\n\nMaking & Sharing: Decorate cookies\, plant gifts\, and craft handmade ornaments or cards to share.\n\n\n\nFaith & Fun: Visit our Nativity scene for dress-ups — perfect for Christmas family photos!\n\n\n\nAdvent Activities: Take home an Advent card calendar for adults or a children’s fabric Advent calendar with pockets to fill.\n\n\n\nCommunity Spirit: Enjoy music\, children’s storytelling\, games\, a sausage sizzle\, pancakes\, and coffee.\n\n\n\n\nAll Welcome!
URL:https://unitingchurchwa.org.au/event/counting-to-christmas/
LOCATION:Nedlands Uniting Church\, 237 Princess Road\, Nedlands\, Western Australia\, 6009\, Australia
CATEGORIES:Activities,Advent,Christmas
ATTACH;FMTTYPE=image/jpeg:https://unitingchurchwa.org.au/wp-content/uploads/2025/11/Nedlands-Christmas-Event-2025.jpg
END:VEVENT
BEGIN:VEVENT
DTSTART;TZID=Australia/Perth:20251130T085000
DTEND;TZID=Australia/Perth:20251130T100000
DTSTAMP:20260421T233951
CREATED:20251127T075539Z
LAST-MODIFIED:20251127T075541Z
UID:46750-1764492600-1764496800@unitingchurchwa.org.au
SUMMARY:Advent 1
DESCRIPTION:Join us at Pinjarra Uniting Church for the first Sunday in Advent on Sunday 30 November.  The service will be led by Karen Burke with the theme Hopeful Anticipation.
URL:https://unitingchurchwa.org.au/event/advent-1/
LOCATION:Pinjarra Uniting Church\, 39 George St\, Pinjarra\, Western Australia\, 6208\, Australia
CATEGORIES:Advent,Christmas,Hope
ATTACH;FMTTYPE=image/jpeg:https://unitingchurchwa.org.au/wp-content/uploads/2025/11/08_Hope-Burns-Bright.jpg
END:VEVENT
BEGIN:VEVENT
DTSTART;TZID=Australia/Perth:20251130T090000
DTEND;TZID=Australia/Perth:20251130T100000
DTSTAMP:20260421T233951
CREATED:20251112T062713Z
LAST-MODIFIED:20251112T062715Z
UID:46454-1764493200-1764496800@unitingchurchwa.org.au
SUMMARY:Advent One
DESCRIPTION:Join us at NorthWay Uniting Church in Beldon for our Advent One service starting at 9.00am led by Rev Dr Sonny Rajamoney.
URL:https://unitingchurchwa.org.au/event/advent-one/
LOCATION:NorthWay Uniting Church\, 9 Pacific Way\, BELDON\, Western Australia\, 6027\, Australia
CATEGORIES:Advent,Christmas,Hope
ATTACH;FMTTYPE=image/jpeg:https://unitingchurchwa.org.au/wp-content/uploads/2025/11/08_Hope-Burns-Bright.jpg
END:VEVENT
BEGIN:VEVENT
DTSTART;TZID=Australia/Perth:20251130T090000
DTEND;TZID=Australia/Perth:20251130T103000
DTSTAMP:20260421T233951
CREATED:20251125T023510Z
LAST-MODIFIED:20251125T023511Z
UID:46651-1764493200-1764498600@unitingchurchwa.org.au
SUMMARY:Community Volunteers Thanksgiving
DESCRIPTION:Calling All Community Volunteers in the Shire of Irwin.  \n\n\n\nJoin us at Dongara Uniting Church on Sunday 30 November\, 9.00am for worship\, fellowship & thanksgiving. \n\n\n\nGuest Speaker will be Mick Antony DFES Emergency Services Manager.   \n\n\n\nMorning tea will follow the service. \n\n\n\nBring your friends and family!No need to RSVP – just rock up! \n\n\n\nFor more info contact :Rev Erica Payne – 0419 943 194Rev John Muller – 0429 173 048
URL:https://unitingchurchwa.org.au/event/community-volunteers-thanksgiving/
LOCATION:Dongara Uniting Church\, 4 Moreton Terrace\, Dongara\, Western Australia\, 6525\, Australia
END:VEVENT
END:VCALENDAR